BEGIN:VCALENDAR
VERSION:2.0
PRODID:-//Fresh Roots Renewal Ministries - ECPv6.15.18//NONSGML v1.0//EN
CALSCALE:GREGORIAN
METHOD:PUBLISH
X-WR-CALNAME:Fresh Roots Renewal Ministries
X-ORIGINAL-URL:https://freshroots.org
X-WR-CALDESC:Events for Fresh Roots Renewal Ministries
REFRESH-INTERVAL;VALUE=DURATION:PT1H
X-Robots-Tag:noindex
X-PUBLISHED-TTL:PT1H
BEGIN:VTIMEZONE
TZID:America/New_York
BEGIN:DAYLIGHT
TZOFFSETFROM:-0500
TZOFFSETTO:-0400
TZNAME:EDT
DTSTART:20250309T070000
END:DAYLIGHT
BEGIN:STANDARD
TZOFFSETFROM:-0400
TZOFFSETTO:-0500
TZNAME:EST
DTSTART:20251102T060000
END:STANDARD
BEGIN:DAYLIGHT
TZOFFSETFROM:-0500
TZOFFSETTO:-0400
TZNAME:EDT
DTSTART:20260308T070000
END:DAYLIGHT
BEGIN:STANDARD
TZOFFSETFROM:-0400
TZOFFSETTO:-0500
TZNAME:EST
DTSTART:20261101T060000
END:STANDARD
BEGIN:DAYLIGHT
TZOFFSETFROM:-0500
TZOFFSETTO:-0400
TZNAME:EDT
DTSTART:20270314T070000
END:DAYLIGHT
BEGIN:STANDARD
TZOFFSETFROM:-0400
TZOFFSETTO:-0500
TZNAME:EST
DTSTART:20271107T060000
END:STANDARD
END:VTIMEZONE
BEGIN:VEVENT
DTSTART;TZID=America/New_York:20260418T180000
DTEND;TZID=America/New_York:20260418T220000
DTSTAMP:20260423T125816
CREATED:20260406T004649Z
LAST-MODIFIED:20260406T004907Z
UID:106-1776535200-1776549600@freshroots.org
SUMMARY:Spring Gala for Veterans
DESCRIPTION:Join us for an elegant evening celebrating our veterans and raising funds for their housing and support services. Includes dinner\, live music\, silent auction\, and veteran speakers. All are welcome — come support a great cause!
URL:https://freshroots.org/event/spring-gala-for-veterans/
LOCATION:Raleigh Convention Center\, NC\, United States
CATEGORIES:Fundraiser
END:VEVENT
BEGIN:VEVENT
DTSTART;TZID=America/New_York:20260526T120000
DTEND;TZID=America/New_York:20260526T180000
DTSTAMP:20260423T125816
CREATED:20260406T005654Z
LAST-MODIFIED:20260406T005654Z
UID:113-1779796800-1779818400@freshroots.org
SUMMARY:Memorial Day Block Party
DESCRIPTION:Celebrate Memorial Day with our veteran community. Free food\, live music\, games\, and resources for veterans and their families. Everyone is welcome.
URL:https://freshroots.org/event/memorial-day-block-party/
LOCATION:Moore Square Park\, Raleigh\, NC
CATEGORIES:Community
END:VEVENT
END:VCALENDAR